BEGIN:VCALENDAR
VERSION:2.0
PRODID:-//Harbor Hills - ECPv6.15.20//NONSGML v1.0//EN
CALSCALE:GREGORIAN
METHOD:PUBLISH
X-WR-CALNAME:Harbor Hills
X-ORIGINAL-URL:https://harborhillscountryclub.com
X-WR-CALDESC:Events for Harbor Hills
REFRESH-INTERVAL;VALUE=DURATION:PT1H
X-Robots-Tag:noindex
X-PUBLISHED-TTL:PT1H
BEGIN:VTIMEZONE
TZID:UTC
BEGIN:STANDARD
TZOFFSETFROM:+0000
TZOFFSETTO:+0000
TZNAME:UTC
DTSTART:20240101T000000
END:STANDARD
END:VTIMEZONE
BEGIN:VEVENT
DTSTART;TZID=UTC:20250928T100000
DTEND;TZID=UTC:20250928T100000
DTSTAMP:20260420T111203
CREATED:20250303T213415Z
LAST-MODIFIED:20250303T220332Z
UID:1189-1759053600-1759053600@harborhillscountryclub.com
SUMMARY:MEN'S LICKING COUNTY INVITATIONAL
DESCRIPTION:
URL:https://harborhillscountryclub.com/event/mens-licking-county-invitational/
LOCATION:FL
END:VEVENT
BEGIN:VEVENT
DTSTART;TZID=UTC:20250426T100000
DTEND;TZID=UTC:20250426T100000
DTSTAMP:20260420T111203
CREATED:20250303T204249Z
LAST-MODIFIED:20250303T204341Z
UID:1153-1745661600-1745661600@harborhillscountryclub.com
SUMMARY:WOMEN'S ASSOCIATION SPRING FLING
DESCRIPTION:
URL:https://harborhillscountryclub.com/event/womens-association-spring-fling/
LOCATION:FL
END:VEVENT
BEGIN:VEVENT
DTSTART;TZID=UTC:20250329T130000
DTEND;TZID=UTC:20250329T130000
DTSTAMP:20260420T111203
CREATED:20250303T204337Z
LAST-MODIFIED:20250303T204337Z
UID:1154-1743253200-1743253200@harborhillscountryclub.com
SUMMARY:Boating For Beginners
DESCRIPTION:
URL:https://harborhillscountryclub.com/event/boating-for-beginners/
LOCATION:FL
END:VEVENT
END:VCALENDAR